BEGIN:VCALENDAR
VERSION:2.0
PRODID:-//Soof on Wheels - ECPv6.15.20//NONSGML v1.0//EN
CALSCALE:GREGORIAN
METHOD:PUBLISH
X-WR-CALNAME:Soof on Wheels
X-ORIGINAL-URL:https://soofonwheels.nl
X-WR-CALDESC:Evenementen voor Soof on Wheels
REFRESH-INTERVAL;VALUE=DURATION:PT1H
X-Robots-Tag:noindex
X-PUBLISHED-TTL:PT1H
BEGIN:VTIMEZONE
TZID:Europe/Helsinki
BEGIN:DAYLIGHT
TZOFFSETFROM:+0200
TZOFFSETTO:+0300
TZNAME:EEST
DTSTART:20220327T010000
END:DAYLIGHT
BEGIN:STANDARD
TZOFFSETFROM:+0300
TZOFFSETTO:+0200
TZNAME:EET
DTSTART:20221030T010000
END:STANDARD
BEGIN:DAYLIGHT
TZOFFSETFROM:+0200
TZOFFSETTO:+0300
TZNAME:EEST
DTSTART:20230326T010000
END:DAYLIGHT
BEGIN:STANDARD
TZOFFSETFROM:+0300
TZOFFSETTO:+0200
TZNAME:EET
DTSTART:20231029T010000
END:STANDARD
BEGIN:DAYLIGHT
TZOFFSETFROM:+0200
TZOFFSETTO:+0300
TZNAME:EEST
DTSTART:20240331T010000
END:DAYLIGHT
BEGIN:STANDARD
TZOFFSETFROM:+0300
TZOFFSETTO:+0200
TZNAME:EET
DTSTART:20241027T010000
END:STANDARD
END:VTIMEZONE
BEGIN:VEVENT
DTSTART;TZID=Europe/Helsinki:20230408T080000
DTEND;TZID=Europe/Helsinki:20230410T170000
DTSTAMP:20260426T001231
CREATED:20230218T110149Z
LAST-MODIFIED:20230219T112053Z
UID:300-1680940800-1681146000@soofonwheels.nl
SUMMARY:TUIN-FAIR LANDGOED HET LAER OMMEN
DESCRIPTION:Flaneren\, wandelen\, ontmoeten\, inspiratie en heerlijke versnaperingen tijdens de Paas-Editie 2023 op Landgoed het Laer. \nPaasweekend 2023 wordt er op Landgoed het Laer in Ommen de Tuin-Fair georganiseerd. \nDit evenement kenmerkt zich als gezellig & ruim aanbod van standhouders. \nWonen\, Lifestyle\, Kleding\, Versnaperingen\, Accesoires\, Antiek\, Brocante en zo veel meer…. \n 
URL:https://soofonwheels.nl/event/tuin-fair-landgoed-het-laer-ommen/
LOCATION:Landgoed het Laer\, Het Laar 2\, Ommen\, 7731 AV\, Nederland
ATTACH;FMTTYPE=image/jpeg:https://soofonwheels.nl/wp-content/uploads/2023/02/ommen.jpg
END:VEVENT
END:VCALENDAR