BEGIN:VCALENDAR
VERSION:2.0
PRODID:-//Soof on Wheels - ECPv6.15.20//NONSGML v1.0//EN
CALSCALE:GREGORIAN
METHOD:PUBLISH
X-WR-CALNAME:Soof on Wheels
X-ORIGINAL-URL:https://soofonwheels.nl
X-WR-CALDESC:Evenementen voor Soof on Wheels
REFRESH-INTERVAL;VALUE=DURATION:PT1H
X-Robots-Tag:noindex
X-PUBLISHED-TTL:PT1H
BEGIN:VTIMEZONE
TZID:Europe/Helsinki
BEGIN:DAYLIGHT
TZOFFSETFROM:+0200
TZOFFSETTO:+0300
TZNAME:EEST
DTSTART:20220327T010000
END:DAYLIGHT
BEGIN:STANDARD
TZOFFSETFROM:+0300
TZOFFSETTO:+0200
TZNAME:EET
DTSTART:20221030T010000
END:STANDARD
BEGIN:DAYLIGHT
TZOFFSETFROM:+0200
TZOFFSETTO:+0300
TZNAME:EEST
DTSTART:20230326T010000
END:DAYLIGHT
BEGIN:STANDARD
TZOFFSETFROM:+0300
TZOFFSETTO:+0200
TZNAME:EET
DTSTART:20231029T010000
END:STANDARD
BEGIN:DAYLIGHT
TZOFFSETFROM:+0200
TZOFFSETTO:+0300
TZNAME:EEST
DTSTART:20240331T010000
END:DAYLIGHT
BEGIN:STANDARD
TZOFFSETFROM:+0300
TZOFFSETTO:+0200
TZNAME:EET
DTSTART:20241027T010000
END:STANDARD
END:VTIMEZONE
BEGIN:VEVENT
DTSTART;TZID=Europe/Helsinki:20230602T080000
DTEND;TZID=Europe/Helsinki:20230604T170000
DTSTAMP:20260425T162447
CREATED:20230218T105504Z
LAST-MODIFIED:20230219T112252Z
UID:293-1685692800-1685898000@soofonwheels.nl
SUMMARY:HOPPAAA! PURMEREND
DESCRIPTION:Het HOPPAAA! foodtruckfestival komt naar Purmerend! \nSchuif aan op het grootste terras in het Leeghwaterpark en geniet volop. \nBorrelplanken\, de Wijnclub\, foodtrucks\, Live muziek\, proeverijtjes\, streekbieren\, muzikale bingo\, nog meer foodtrucks\, de Cocktailbar\, shared dining\, lang tafelen\, schminken enzovoorts. \nDit is een festival voor het hele gezin\, kleine kids buikjes\, vriendenclubjes\, weekend makkers\, zaterdagfamilies\, de beste buren\, fijne collega’s en natuurlijk voor de beste Bourgondiërs van heel Purmerend en omstreken!
URL:https://soofonwheels.nl/event/hoppaaa-purmerend/
LOCATION:Leeghwaterpark\, Leeghwaterpark\, Purmerend\, Nederland
END:VEVENT
END:VCALENDAR