BEGIN:VCALENDAR
VERSION:2.0
PRODID:-//Soof on Wheels - ECPv6.15.20//NONSGML v1.0//EN
CALSCALE:GREGORIAN
METHOD:PUBLISH
X-WR-CALNAME:Soof on Wheels
X-ORIGINAL-URL:https://soofonwheels.nl
X-WR-CALDESC:Evenementen voor Soof on Wheels
REFRESH-INTERVAL;VALUE=DURATION:PT1H
X-Robots-Tag:noindex
X-PUBLISHED-TTL:PT1H
BEGIN:VTIMEZONE
TZID:Europe/Helsinki
BEGIN:DAYLIGHT
TZOFFSETFROM:+0200
TZOFFSETTO:+0300
TZNAME:EEST
DTSTART:20240331T010000
END:DAYLIGHT
BEGIN:STANDARD
TZOFFSETFROM:+0300
TZOFFSETTO:+0200
TZNAME:EET
DTSTART:20241027T010000
END:STANDARD
BEGIN:DAYLIGHT
TZOFFSETFROM:+0200
TZOFFSETTO:+0300
TZNAME:EEST
DTSTART:20250330T010000
END:DAYLIGHT
BEGIN:STANDARD
TZOFFSETFROM:+0300
TZOFFSETTO:+0200
TZNAME:EET
DTSTART:20251026T010000
END:STANDARD
BEGIN:DAYLIGHT
TZOFFSETFROM:+0200
TZOFFSETTO:+0300
TZNAME:EEST
DTSTART:20260329T010000
END:DAYLIGHT
BEGIN:STANDARD
TZOFFSETFROM:+0300
TZOFFSETTO:+0200
TZNAME:EET
DTSTART:20261025T010000
END:STANDARD
END:VTIMEZONE
BEGIN:VEVENT
DTSTART;TZID=Europe/Helsinki:20250609T100000
DTEND;TZID=Europe/Helsinki:20250609T170000
DTSTAMP:20260423T235137
CREATED:20230218T110538Z
LAST-MODIFIED:20250416T174132Z
UID:304-1749463200-1749488400@soofonwheels.nl
SUMMARY:Creatieve Dag - Met Oldtimershow!
DESCRIPTION:Op maandag 20 mei 2024\, 2e Pinksterdag\, vieren wij de 34e editie van de Creatieve Dag achter Herberg de Pot in Markelo. Voor velen\, jong én oud\, is het inmiddels een traditie geworden. \n  \nEr is een grote rommelmarkt met een groot aantal kramen waar vele standhouders hun hobby\, creativiteit en koopwaar delen met bezoekers. \n  \nBij de oldtimershow gaan we terug in de tijd\, zo zijn er verschillende oldtimer tractoren te bewonderen
URL:https://soofonwheels.nl/event/creatieve-dag-met-oldtimershow/
LOCATION:Markelo\, Potdijk 9\, Markelo\, Nederland
END:VEVENT
END:VCALENDAR