BEGIN:VCALENDAR
VERSION:2.0
PRODID:-//Soof on Wheels - ECPv6.15.20//NONSGML v1.0//EN
CALSCALE:GREGORIAN
METHOD:PUBLISH
X-WR-CALNAME:Soof on Wheels
X-ORIGINAL-URL:https://soofonwheels.nl
X-WR-CALDESC:Evenementen voor Soof on Wheels
REFRESH-INTERVAL;VALUE=DURATION:PT1H
X-Robots-Tag:noindex
X-PUBLISHED-TTL:PT1H
BEGIN:VTIMEZONE
TZID:Europe/Helsinki
BEGIN:DAYLIGHT
TZOFFSETFROM:+0200
TZOFFSETTO:+0300
TZNAME:EEST
DTSTART:20250330T010000
END:DAYLIGHT
BEGIN:STANDARD
TZOFFSETFROM:+0300
TZOFFSETTO:+0200
TZNAME:EET
DTSTART:20251026T010000
END:STANDARD
BEGIN:DAYLIGHT
TZOFFSETFROM:+0200
TZOFFSETTO:+0300
TZNAME:EEST
DTSTART:20260329T010000
END:DAYLIGHT
BEGIN:STANDARD
TZOFFSETFROM:+0300
TZOFFSETTO:+0200
TZNAME:EET
DTSTART:20261025T010000
END:STANDARD
BEGIN:DAYLIGHT
TZOFFSETFROM:+0200
TZOFFSETTO:+0300
TZNAME:EEST
DTSTART:20270328T010000
END:DAYLIGHT
BEGIN:STANDARD
TZOFFSETFROM:+0300
TZOFFSETTO:+0200
TZNAME:EET
DTSTART:20271031T010000
END:STANDARD
END:VTIMEZONE
BEGIN:VEVENT
DTSTART;TZID=Europe/Helsinki:20260809T090000
DTEND;TZID=Europe/Helsinki:20260809T140000
DTSTAMP:20260423T095743
CREATED:20230219T112439Z
LAST-MODIFIED:20260206T174452Z
UID:315-1786266000-1786284000@soofonwheels.nl
SUMMARY:Het Bos Roept
DESCRIPTION:Deze zondagochtend kunt u bij mij terecht voor een lekkere kop koffie op een prachtige locatie!
URL:https://soofonwheels.nl/event/het-boes-roept/
LOCATION:Het Bos Roept\, Den Oeverseweg 12\, Slootdorp\, 1774NB\, Nederland
ATTACH;FMTTYPE=image/jpeg:https://soofonwheels.nl/wp-content/uploads/2024/01/IMG_4156.jpg
END:VEVENT
BEGIN:VEVENT
DTSTART;TZID=Europe/Helsinki:20260816T090000
DTEND;TZID=Europe/Helsinki:20260816T140000
DTSTAMP:20260423T095743
CREATED:20221003T190055Z
LAST-MODIFIED:20260206T174514Z
UID:267-1786870800-1786888800@soofonwheels.nl
SUMMARY:Het Bos Roept
DESCRIPTION:Op de zondagochtend kunt u van een heerlijke kop koffie met wat lekkers genieten bij Het Bos Roept
URL:https://soofonwheels.nl/event/het-bos-roept-6/
LOCATION:Het Bos Roept\, Den Oeverseweg 12\, Slootdorp\, 1774NB\, Nederland
END:VEVENT
BEGIN:VEVENT
DTSTART;TZID=Europe/Helsinki:20260823T080000
DTEND;TZID=Europe/Helsinki:20260823T130000
DTSTAMP:20260423T095743
CREATED:20220819T203959Z
LAST-MODIFIED:20260206T174549Z
UID:242-1787472000-1787490000@soofonwheels.nl
SUMMARY:Het Bos Roept
DESCRIPTION:Deze zondagochtend kunt u bij mij terecht voor een lekkere kop koffie op een prachtige locatie!
URL:https://soofonwheels.nl/event/het-bos-roept-2/
LOCATION:Het Bos Roept\, Den Oeverseweg 12\, Slootdorp\, 1774NB\, Nederland
END:VEVENT
BEGIN:VEVENT
DTSTART;TZID=Europe/Helsinki:20260830T080000
DTEND;TZID=Europe/Helsinki:20260830T130000
DTSTAMP:20260423T095743
CREATED:20221003T190218Z
LAST-MODIFIED:20260206T174724Z
UID:269-1788076800-1788094800@soofonwheels.nl
SUMMARY:Het Bos Roept
DESCRIPTION:Op de zondagochtend kunt u van een heerlijke kop koffie met wat lekkers genieten bij Het Bos Roept. \n 
URL:https://soofonwheels.nl/event/het-bos-roept-laatste-koffieochtend-van-2022/
LOCATION:Het Bos Roept\, Den Oeverseweg 12\, Slootdorp\, 1774NB\, Nederland
END:VEVENT
END:VCALENDAR