BEGIN:VCALENDAR
VERSION:2.0
PRODID:-//Soof on Wheels - ECPv6.15.20//NONSGML v1.0//EN
CALSCALE:GREGORIAN
METHOD:PUBLISH
X-WR-CALNAME:Soof on Wheels
X-ORIGINAL-URL:https://soofonwheels.nl
X-WR-CALDESC:Evenementen voor Soof on Wheels
REFRESH-INTERVAL;VALUE=DURATION:PT1H
X-Robots-Tag:noindex
X-PUBLISHED-TTL:PT1H
BEGIN:VTIMEZONE
TZID:Europe/Helsinki
BEGIN:DAYLIGHT
TZOFFSETFROM:+0200
TZOFFSETTO:+0300
TZNAME:EEST
DTSTART:20210328T010000
END:DAYLIGHT
BEGIN:STANDARD
TZOFFSETFROM:+0300
TZOFFSETTO:+0200
TZNAME:EET
DTSTART:20211031T010000
END:STANDARD
BEGIN:DAYLIGHT
TZOFFSETFROM:+0200
TZOFFSETTO:+0300
TZNAME:EEST
DTSTART:20220327T010000
END:DAYLIGHT
BEGIN:STANDARD
TZOFFSETFROM:+0300
TZOFFSETTO:+0200
TZNAME:EET
DTSTART:20221030T010000
END:STANDARD
BEGIN:DAYLIGHT
TZOFFSETFROM:+0200
TZOFFSETTO:+0300
TZNAME:EEST
DTSTART:20230326T010000
END:DAYLIGHT
BEGIN:STANDARD
TZOFFSETFROM:+0300
TZOFFSETTO:+0200
TZNAME:EET
DTSTART:20231029T010000
END:STANDARD
END:VTIMEZONE
BEGIN:VEVENT
DTSTART;TZID=Europe/Helsinki:20221022T110000
DTEND;TZID=Europe/Helsinki:20221022T170000
DTSTAMP:20260423T130403
CREATED:20220815T131619Z
LAST-MODIFIED:20220815T131619Z
UID:234-1666436400-1666458000@soofonwheels.nl
SUMMARY:Chocoladefestival Hattem 2022
DESCRIPTION:Het chocoladefestival in Hattem  wordt elke 2 jaar georganiseerd.\nEen festival\, waar echte chocoholics uit heel Nederland de laatste trends demonstreren\, met chocola gebeeldhouwd\, geschilderd en haren geverfd worden. \nCHOCOLADEFESTIVAL ZATERDAG 22 OKTOBER 2022 IN HATTEM \nHet vestingstadje Hattem staat zaterdag 22-10-22 voor de 12de keer geheel in het teken van het Chocoladefestival.
URL:https://soofonwheels.nl/event/chocoladefestival-hattem-2022/
LOCATION:Hattem\, Kerkhofstraat 2\, Hattem\, 8051 GG\, Nederland
END:VEVENT
BEGIN:VEVENT
DTSTART;TZID=Europe/Helsinki:20220903T100000
DTEND;TZID=Europe/Helsinki:20220903T170000
DTSTAMP:20260423T130403
CREATED:20220822T125314Z
LAST-MODIFIED:20220822T125314Z
UID:247-1662199200-1662224400@soofonwheels.nl
SUMMARY:Jaarmarkt Feestweek Aalsmeer
DESCRIPTION:
URL:https://soofonwheels.nl/event/jaarmarkt-feestweek-aalsmeer/
LOCATION:Aalsmeer\, Aalsmeer\, Nederland
END:VEVENT
END:VCALENDAR