BEGIN:VCALENDAR
VERSION:2.0
PRODID:-//Soof on Wheels - ECPv6.15.20//NONSGML v1.0//EN
CALSCALE:GREGORIAN
METHOD:PUBLISH
X-WR-CALNAME:Soof on Wheels
X-ORIGINAL-URL:https://soofonwheels.nl
X-WR-CALDESC:Evenementen voor Soof on Wheels
REFRESH-INTERVAL;VALUE=DURATION:PT1H
X-Robots-Tag:noindex
X-PUBLISHED-TTL:PT1H
BEGIN:VTIMEZONE
TZID:Europe/Helsinki
BEGIN:DAYLIGHT
TZOFFSETFROM:+0200
TZOFFSETTO:+0300
TZNAME:EEST
DTSTART:20210328T010000
END:DAYLIGHT
BEGIN:STANDARD
TZOFFSETFROM:+0300
TZOFFSETTO:+0200
TZNAME:EET
DTSTART:20211031T010000
END:STANDARD
BEGIN:DAYLIGHT
TZOFFSETFROM:+0200
TZOFFSETTO:+0300
TZNAME:EEST
DTSTART:20220327T010000
END:DAYLIGHT
BEGIN:STANDARD
TZOFFSETFROM:+0300
TZOFFSETTO:+0200
TZNAME:EET
DTSTART:20221030T010000
END:STANDARD
BEGIN:DAYLIGHT
TZOFFSETFROM:+0200
TZOFFSETTO:+0300
TZNAME:EEST
DTSTART:20230326T010000
END:DAYLIGHT
BEGIN:STANDARD
TZOFFSETFROM:+0300
TZOFFSETTO:+0200
TZNAME:EET
DTSTART:20231029T010000
END:STANDARD
END:VTIMEZONE
BEGIN:VEVENT
DTSTART;TZID=Europe/Helsinki:20221125T150000
DTEND;TZID=Europe/Helsinki:20221126T210000
DTSTAMP:20260423T142351
CREATED:20221003T185855Z
LAST-MODIFIED:20221003T185855Z
UID:262-1669388400-1669496400@soofonwheels.nl
SUMMARY:Gees in Wintersfeer
DESCRIPTION:Gees in Wintersfeer 2022 wordt uiteraard weer een geslaagd evenement. De laatste editie in 2019 hebben wij tussen de 13.000 en 15.000 enthousiaste bezoekers mogen verwelkomen. \nDe verlichte route leidt u langs de authentieke boerderijen. Velen hebben de baanderdeuren van hun deel of schuren voor u als bezoeker opengesteld. Hier kunt genieten van allerlei activiteiten (zowel binnen als buiten) op het gebied van kunst\, natuur\, cultuur\, muziek\, proeverijen\, demonstraties en verkoop van allerlei producten. \n 
URL:https://soofonwheels.nl/event/gees-in-wintersfeer/
LOCATION:Gees\, Gees (Drenthe)\, Nederland
END:VEVENT
BEGIN:VEVENT
DTSTART;TZID=Europe/Helsinki:20221112T100000
DTEND;TZID=Europe/Helsinki:20221113T170000
DTSTAMP:20260423T142351
CREATED:20221106T112959Z
LAST-MODIFIED:20221106T112959Z
UID:282-1668247200-1668358800@soofonwheels.nl
SUMMARY:KERST bij Het Huis van Middenmeer
DESCRIPTION:Na het uitbundige buitenleven van de afgelopen maanden\, keren we weer naar binnen. De warmte nemen we mee. Door de onrust in de wereld verlangen we des te meer naar harmonie\, samenzijn met onze geliefden. Kerst is bij uitstek de gelegenheid om met veel sfeer onze wereld een stukje mooier te maken. Mooi gedekte tafel\, warme kussens\, knisperend haardvuur\, fonkelende lichtjes. \nKom gezellig langs voor een kop koffie\, gluhwein of snert!
URL:https://soofonwheels.nl/event/kerst-bij-het-huis-van-middenmeer/
LOCATION:Huis van Middenmeer\, Zuiderzeeweg 4a\, Middenmeer\, 1775 PS
END:VEVENT
BEGIN:VEVENT
DTSTART;TZID=Europe/Helsinki:20221028T160000
DTEND;TZID=Europe/Helsinki:20221028T210000
DTSTAMP:20260423T142351
CREATED:20221011T105350Z
LAST-MODIFIED:20221011T105452Z
UID:271-1666972800-1666990800@soofonwheels.nl
SUMMARY:Happy Halloweenmarkt - Anna Paulowna
DESCRIPTION:Vrijdagmiddag / avond organiseert de Scharrelboet een Happy Halloweenmarkt op het parkeerterrein naast de winkel en bij het kerkje aan de Molenvaart. \nDe markt begint om 16.00 uur en duurt tot 21.00 uur. Vanaf 21.00 uur start dan de gezellige Happy Halloween knipoogbingoshow in het kerkje aan de Molenvaart. De Halloween knipoogshow zal tot ongeveer 00.00 uur duren. \nTijdens de markt zal er van alles gaan gebeuren. Laat je verrassen. Op het Heksen Entertainment Plein gebeurt van alles en is er ook veel voor de kinderen te doen. Neem Vliegles met de Heksen. Langs de kramen mag je Trick or Treaten\, We gaan heksensoep maken en nog veel meer. \n 
URL:https://soofonwheels.nl/event/happy-halloweenmarkt-anna-paulowna/
LOCATION:anna\, Anna Paulowna\, Nederland
END:VEVENT
BEGIN:VEVENT
DTSTART;TZID=Europe/Helsinki:20221022T110000
DTEND;TZID=Europe/Helsinki:20221022T170000
DTSTAMP:20260423T142351
CREATED:20220815T131619Z
LAST-MODIFIED:20220815T131619Z
UID:234-1666436400-1666458000@soofonwheels.nl
SUMMARY:Chocoladefestival Hattem 2022
DESCRIPTION:Het chocoladefestival in Hattem  wordt elke 2 jaar georganiseerd.\nEen festival\, waar echte chocoholics uit heel Nederland de laatste trends demonstreren\, met chocola gebeeldhouwd\, geschilderd en haren geverfd worden. \nCHOCOLADEFESTIVAL ZATERDAG 22 OKTOBER 2022 IN HATTEM \nHet vestingstadje Hattem staat zaterdag 22-10-22 voor de 12de keer geheel in het teken van het Chocoladefestival.
URL:https://soofonwheels.nl/event/chocoladefestival-hattem-2022/
LOCATION:Hattem\, Kerkhofstraat 2\, Hattem\, 8051 GG\, Nederland
END:VEVENT
BEGIN:VEVENT
DTSTART;TZID=Europe/Helsinki:20220903T100000
DTEND;TZID=Europe/Helsinki:20220903T170000
DTSTAMP:20260423T142351
CREATED:20220822T125314Z
LAST-MODIFIED:20220822T125314Z
UID:247-1662199200-1662224400@soofonwheels.nl
SUMMARY:Jaarmarkt Feestweek Aalsmeer
DESCRIPTION:
URL:https://soofonwheels.nl/event/jaarmarkt-feestweek-aalsmeer/
LOCATION:Aalsmeer\, Aalsmeer\, Nederland
END:VEVENT
END:VCALENDAR