BEGIN:VCALENDAR
VERSION:2.0
PRODID:-//Soof on Wheels - ECPv6.15.20//NONSGML v1.0//EN
CALSCALE:GREGORIAN
METHOD:PUBLISH
X-ORIGINAL-URL:https://soofonwheels.nl
X-WR-CALDESC:Evenementen voor Soof on Wheels
REFRESH-INTERVAL;VALUE=DURATION:PT1H
X-Robots-Tag:noindex
X-PUBLISHED-TTL:PT1H
BEGIN:VTIMEZONE
TZID:Europe/Helsinki
BEGIN:DAYLIGHT
TZOFFSETFROM:+0200
TZOFFSETTO:+0300
TZNAME:EEST
DTSTART:20220327T010000
END:DAYLIGHT
BEGIN:STANDARD
TZOFFSETFROM:+0300
TZOFFSETTO:+0200
TZNAME:EET
DTSTART:20221030T010000
END:STANDARD
BEGIN:DAYLIGHT
TZOFFSETFROM:+0200
TZOFFSETTO:+0300
TZNAME:EEST
DTSTART:20230326T010000
END:DAYLIGHT
BEGIN:STANDARD
TZOFFSETFROM:+0300
TZOFFSETTO:+0200
TZNAME:EET
DTSTART:20231029T010000
END:STANDARD
BEGIN:DAYLIGHT
TZOFFSETFROM:+0200
TZOFFSETTO:+0300
TZNAME:EEST
DTSTART:20240331T010000
END:DAYLIGHT
BEGIN:STANDARD
TZOFFSETFROM:+0300
TZOFFSETTO:+0200
TZNAME:EET
DTSTART:20241027T010000
END:STANDARD
END:VTIMEZONE
BEGIN:VEVENT
DTSTART;TZID=Europe/Helsinki:20230513T080000
DTEND;TZID=Europe/Helsinki:20230513T170000
DTSTAMP:20260425T161210
CREATED:20230312T081155Z
LAST-MODIFIED:20230312T081155Z
UID:328-1683964800-1683997200@soofonwheels.nl
SUMMARY:Braderie Schellinkhout
DESCRIPTION:Dit jaar hebben we een hele nieuwe locatie voor de Braderie! Dit zal rond het Dorpshuis en de school zijn. Hierdoor hebben we een hele andere setting dan voorgaande jaren\, het zal meer een gezellige dorpsmarkt zijn met veel groen en tussen de bomen.
URL:https://soofonwheels.nl/event/braderie-schellinkhout/
LOCATION:Schellinkhout\, Schellinkhout\, Nederland
ATTACH;FMTTYPE=image/jpeg:https://soofonwheels.nl/wp-content/uploads/2023/03/WhatsApp-Image-2023-03-12-at-09.07.54.jpeg
END:VEVENT
BEGIN:VEVENT
DTSTART;TZID=Europe/Helsinki:20230518T090000
DTEND;TZID=Europe/Helsinki:20230518T130000
DTSTAMP:20260425T161210
CREATED:20230416T102219Z
LAST-MODIFIED:20230416T102255Z
UID:351-1684400400-1684414800@soofonwheels.nl
SUMMARY:Het Bos Roept - Hemelsvaart
DESCRIPTION:Kom gezellig op Hemelsvaartdag een kop koffie met iets lekkers halen bij Het Bos Roept!
URL:https://soofonwheels.nl/event/het-bos-roept-hemelsvaart/
LOCATION:Het Bos Roept\, Den Oeverseweg 12\, Slootdorp\, 1774NB\, Nederland
ATTACH;FMTTYPE=image/jpeg:https://soofonwheels.nl/wp-content/uploads/2023/04/C4AAAADD-3CC3-43C5-A885-B81D86076193.jpg
END:VEVENT
BEGIN:VEVENT
DTSTART;TZID=Europe/Helsinki:20230519T100000
DTEND;TZID=Europe/Helsinki:20230519T170000
DTSTAMP:20260425T161210
CREATED:20230312T081604Z
LAST-MODIFIED:20230312T081604Z
UID:332-1684490400-1684515600@soofonwheels.nl
SUMMARY:Wieringer Jaarmarkt
DESCRIPTION:
URL:https://soofonwheels.nl/event/wieringer-jaarmarkt/
LOCATION:Hippolytushoef\, Hippolytushoef\, Nederland
END:VEVENT
BEGIN:VEVENT
DTSTART;TZID=Europe/Helsinki:20230528T090000
DTEND;TZID=Europe/Helsinki:20230528T130000
DTSTAMP:20260425T161210
CREATED:20230416T102054Z
LAST-MODIFIED:20230416T102054Z
UID:349-1685264400-1685278800@soofonwheels.nl
SUMMARY:Het Bos Roept - Pinksteren
DESCRIPTION:Kom lekker voor\, na of tijdens je Pinksterwandeling een kop koffie met wat lekkers halen bij Het Bos Roept!
URL:https://soofonwheels.nl/event/het-bos-roept-pinksteren/
LOCATION:Het Bos Roept\, Den Oeverseweg 12\, Slootdorp\, 1774NB\, Nederland
ATTACH;FMTTYPE=image/jpeg:https://soofonwheels.nl/wp-content/uploads/2023/04/C4AAAADD-3CC3-43C5-A885-B81D86076193.jpg
END:VEVENT
END:VCALENDAR