BEGIN:VCALENDAR
VERSION:2.0
PRODID:-//Soof on Wheels - ECPv6.15.20//NONSGML v1.0//EN
CALSCALE:GREGORIAN
METHOD:PUBLISH
X-WR-CALNAME:Soof on Wheels
X-ORIGINAL-URL:https://soofonwheels.nl
X-WR-CALDESC:Evenementen voor Soof on Wheels
REFRESH-INTERVAL;VALUE=DURATION:PT1H
X-Robots-Tag:noindex
X-PUBLISHED-TTL:PT1H
BEGIN:VTIMEZONE
TZID:Europe/Helsinki
BEGIN:DAYLIGHT
TZOFFSETFROM:+0200
TZOFFSETTO:+0300
TZNAME:EEST
DTSTART:20230326T010000
END:DAYLIGHT
BEGIN:STANDARD
TZOFFSETFROM:+0300
TZOFFSETTO:+0200
TZNAME:EET
DTSTART:20231029T010000
END:STANDARD
BEGIN:DAYLIGHT
TZOFFSETFROM:+0200
TZOFFSETTO:+0300
TZNAME:EEST
DTSTART:20240331T010000
END:DAYLIGHT
BEGIN:STANDARD
TZOFFSETFROM:+0300
TZOFFSETTO:+0200
TZNAME:EET
DTSTART:20241027T010000
END:STANDARD
BEGIN:DAYLIGHT
TZOFFSETFROM:+0200
TZOFFSETTO:+0300
TZNAME:EEST
DTSTART:20250330T010000
END:DAYLIGHT
BEGIN:STANDARD
TZOFFSETFROM:+0300
TZOFFSETTO:+0200
TZNAME:EET
DTSTART:20251026T010000
END:STANDARD
END:VTIMEZONE
BEGIN:VEVENT
DTSTART;TZID=Europe/Helsinki:20240601T120000
DTEND;TZID=Europe/Helsinki:20240602T200000
DTSTAMP:20260424T172856
CREATED:20240125T182535Z
LAST-MODIFIED:20240125T182535Z
UID:27906-1717243200-1717358400@soofonwheels.nl
SUMMARY:FOOD FESTIVAL VENHUIZEN
DESCRIPTION:Het grootste openluchtrestaurant van West-Friesland is voor de zesde keer weer in Venhuizen!\nMet 15-20 foodtrucks\, kinderactiviteiten en leuke bands gaan we er weer een geweldig feest van maken.\nEn er is gratis entree!
URL:https://soofonwheels.nl/event/food-festival-venhuizen/
LOCATION:Venhuizen\, De Vliegende Faam\, Venhuizen\, Nederland
END:VEVENT
END:VCALENDAR