BEGIN:VCALENDAR
VERSION:2.0
PRODID:-//Soof on Wheels - ECPv6.15.20//NONSGML v1.0//EN
CALSCALE:GREGORIAN
METHOD:PUBLISH
X-WR-CALNAME:Soof on Wheels
X-ORIGINAL-URL:https://soofonwheels.nl
X-WR-CALDESC:Evenementen voor Soof on Wheels
REFRESH-INTERVAL;VALUE=DURATION:PT1H
X-Robots-Tag:noindex
X-PUBLISHED-TTL:PT1H
BEGIN:VTIMEZONE
TZID:Europe/Helsinki
BEGIN:DAYLIGHT
TZOFFSETFROM:+0200
TZOFFSETTO:+0300
TZNAME:EEST
DTSTART:20250330T010000
END:DAYLIGHT
BEGIN:STANDARD
TZOFFSETFROM:+0300
TZOFFSETTO:+0200
TZNAME:EET
DTSTART:20251026T010000
END:STANDARD
BEGIN:DAYLIGHT
TZOFFSETFROM:+0200
TZOFFSETTO:+0300
TZNAME:EEST
DTSTART:20260329T010000
END:DAYLIGHT
BEGIN:STANDARD
TZOFFSETFROM:+0300
TZOFFSETTO:+0200
TZNAME:EET
DTSTART:20261025T010000
END:STANDARD
BEGIN:DAYLIGHT
TZOFFSETFROM:+0200
TZOFFSETTO:+0300
TZNAME:EEST
DTSTART:20270328T010000
END:DAYLIGHT
BEGIN:STANDARD
TZOFFSETFROM:+0300
TZOFFSETTO:+0200
TZNAME:EET
DTSTART:20271031T010000
END:STANDARD
END:VTIMEZONE
BEGIN:VEVENT
DTSTART;TZID=Europe/Helsinki:20260607T090000
DTEND;TZID=Europe/Helsinki:20260607T130000
DTSTAMP:20260423T032716
CREATED:20230219T111704Z
LAST-MODIFIED:20260206T174137Z
UID:308-1780822800-1780837200@soofonwheels.nl
SUMMARY:Het Bos Roept
DESCRIPTION:Deze zondagochtend kunt u bij mij terecht voor een lekkere kop koffie op een prachtige locatie!
URL:https://soofonwheels.nl/event/het-bos-roept-7/
LOCATION:Het Bos Roept\, Den Oeverseweg 12\, Slootdorp\, 1774NB\, Nederland
ATTACH;FMTTYPE=image/jpeg:https://soofonwheels.nl/wp-content/uploads/2022/08/7aug-8-scaled.jpg
END:VEVENT
BEGIN:VEVENT
DTSTART;TZID=Europe/Helsinki:20260626T190000
DTEND;TZID=Europe/Helsinki:20260626T235900
DTSTAMP:20260423T032716
CREATED:20220808T120850Z
LAST-MODIFIED:20260206T174107Z
UID:196-1782500400-1782518340@soofonwheels.nl
SUMMARY:Kolhorner Nachtmarkt
DESCRIPTION:Kolhorn is één van de mooiste dorpjes van Noord Holland. Kolhorn was ooit een vissersdorp\, dat aan de Zuiderzee lag. Door de verschillende inpolderingen ligt het nu midden in het Noord-Hollandse landschap. Het uiterlijk van een vissersdorp is echter blijven bestaan en geniet “Beschermd Dorpsgezicht”. U zult onder de indruk zijn van de schitterend gerestaureerde huizen en gebouwen\, waarvan de kerk het middelpunt vormt. Dit alles is tijdens de jaarlijkse nachtmarkten te bewonderen. Tweehonderd kramen en stalletjes zijn met een rijk gevarieerd assortiment opgesteld langs de monumentale Westfriese Omringdijk\, de Nieuwe Streek en rondom de kerk. De markt en het oudste gedeelte van het dorp zijn op deze avonden prachtig verlicht en uw bezoek meer dan waard!
URL:https://soofonwheels.nl/event/kolhorner-nachtmarkt/
LOCATION:Kolhorn\, Kolhorn
ATTACH;FMTTYPE=image/jpeg:https://soofonwheels.nl/wp-content/uploads/2022/08/7aug-89-scaled.jpg
END:VEVENT
END:VCALENDAR